BEGIN:VCALENDAR
VERSION:2.0
PRODID:-//Freimaurerloge &quot;Zum brennenden Dornbusch&quot; e.V. ALZEY - ECPv6.0.9//NONSGML v1.0//EN
CALSCALE:GREGORIAN
METHOD:PUBLISH
X-ORIGINAL-URL:https://www.alzey-freimaurer.de
X-WR-CALDESC:Veranstaltungen für Freimaurerloge &quot;Zum brennenden Dornbusch&quot; e.V. ALZEY
REFRESH-INTERVAL;VALUE=DURATION:PT1H
X-Robots-Tag:noindex
X-PUBLISHED-TTL:PT1H
BEGIN:VTIMEZONE
TZID:Europe/Berlin
BEGIN:DAYLIGHT
TZOFFSETFROM:+0100
TZOFFSETTO:+0200
TZNAME:CEST
DTSTART:20240331T010000
END:DAYLIGHT
BEGIN:STANDARD
TZOFFSETFROM:+0200
TZOFFSETTO:+0100
TZNAME:CET
DTSTART:20241027T010000
END:STANDARD
END:VTIMEZONE
BEGIN:VEVENT
DTSTART;TZID=Europe/Berlin:20240124T190000
DTEND;TZID=Europe/Berlin:20240124T190000
DTSTAMP:20260421T153003
CREATED:20240106T130822Z
LAST-MODIFIED:20240106T131025Z
UID:4621-1706122800-1706122800@www.alzey-freimaurer.de
SUMMARY:Beamtenrat
DESCRIPTION:Beamtenrat ab 19.00 Uhr \nFreimaurerloge „Zum brennenden Dornbusch“ (Online) \nAb- und Anmeldung erforderlich. Link wird wenige Tage vorher versandt werden.
URL:https://www.alzey-freimaurer.de/termin/beamtenrat/
END:VEVENT
END:VCALENDAR